BEGIN:VCALENDAR
VERSION:2.0
PRODID:-//Reconciliation Australia - ECPv6.15.12.2//NONSGML v1.0//EN
CALSCALE:GREGORIAN
METHOD:PUBLISH
X-ORIGINAL-URL:https://www.reconciliation.org.au
X-WR-CALDESC:Events for Reconciliation Australia
REFRESH-INTERVAL;VALUE=DURATION:PT1H
X-Robots-Tag:noindex
X-PUBLISHED-TTL:PT1H
BEGIN:VTIMEZONE
TZID:Australia/Melbourne
BEGIN:STANDARD
TZOFFSETFROM:+1100
TZOFFSETTO:+1000
TZNAME:AEST
DTSTART:20250405T160000
END:STANDARD
BEGIN:DAYLIGHT
TZOFFSETFROM:+1000
TZOFFSETTO:+1100
TZNAME:AEDT
DTSTART:20251004T160000
END:DAYLIGHT
BEGIN:STANDARD
TZOFFSETFROM:+1100
TZOFFSETTO:+1000
TZNAME:AEST
DTSTART:20260404T160000
END:STANDARD
BEGIN:DAYLIGHT
TZOFFSETFROM:+1000
TZOFFSETTO:+1100
TZNAME:AEDT
DTSTART:20261003T160000
END:DAYLIGHT
BEGIN:STANDARD
TZOFFSETFROM:+1100
TZOFFSETTO:+1000
TZNAME:AEST
DTSTART:20270403T160000
END:STANDARD
BEGIN:DAYLIGHT
TZOFFSETFROM:+1000
TZOFFSETTO:+1100
TZNAME:AEDT
DTSTART:20271002T160000
END:DAYLIGHT
END:VTIMEZONE
BEGIN:VEVENT
DTSTART;TZID=Australia/Melbourne:20260526T113000
DTEND;TZID=Australia/Melbourne:20260526T133000
DTSTAMP:20260420T213945
CREATED:20260416T052514Z
LAST-MODIFIED:20260416T052514Z
UID:10000794-1779795000-1779802200@www.reconciliation.org.au
SUMMARY:National Sorry Day Sunshine Coast
DESCRIPTION:Join us on National Sorry Day for a meaningful and moving gathering of truth-telling\, reflection\, and learning. This event will centre the lived experiences and ongoing impacts of the Stolen Generations\, bringing together personal story\, historical context\, and insight into intergenerational trauma. \nWe are honoured to welcome Uncle Tais Muchan\, a Kabi Kabi Elder with the Undumbi Culture Group\, who will share his family’s story of child removal\, alongside Professor David Hollinsworth\, who will provide broader context on the history and impacts of the Stolen Children\, and Karen Malcolm\, who will speak to the science of intergenerational trauma\, including insights from epigenetics. \nAll are warmly invited to be part of this important conversation.
URL:https://www.reconciliation.org.au/event/national-sorry-day-sunshine-coast/
LOCATION:St Marks Church Hall\, Main Street\, Buderim\, Queensland\, Australia
CATEGORIES:Talk/Panel
ATTACH;FMTTYPE=image/jpeg:https://www.reconciliation.org.au/wp-content/uploads/2026/04/Sorry-Day-edea49d086235012400a56192c28c750.jpg
ORGANIZER;CN="Sunshine Coast Reconciliation Group Inc":MAILTO:info@scrgi.org.au
END:VEVENT
END:VCALENDAR