BEGIN:VCALENDAR
VERSION:2.0
PRODID:-//Reconciliation Australia - ECPv6.15.12.2//NONSGML v1.0//EN
CALSCALE:GREGORIAN
METHOD:PUBLISH
X-ORIGINAL-URL:https://www.reconciliation.org.au
X-WR-CALDESC:Events for Reconciliation Australia
REFRESH-INTERVAL;VALUE=DURATION:PT1H
X-Robots-Tag:noindex
X-PUBLISHED-TTL:PT1H
BEGIN:VTIMEZONE
TZID:Australia/Melbourne
BEGIN:STANDARD
TZOFFSETFROM:+1100
TZOFFSETTO:+1000
TZNAME:AEST
DTSTART:20250405T160000
END:STANDARD
BEGIN:DAYLIGHT
TZOFFSETFROM:+1000
TZOFFSETTO:+1100
TZNAME:AEDT
DTSTART:20251004T160000
END:DAYLIGHT
BEGIN:STANDARD
TZOFFSETFROM:+1100
TZOFFSETTO:+1000
TZNAME:AEST
DTSTART:20260404T160000
END:STANDARD
BEGIN:DAYLIGHT
TZOFFSETFROM:+1000
TZOFFSETTO:+1100
TZNAME:AEDT
DTSTART:20261003T160000
END:DAYLIGHT
BEGIN:STANDARD
TZOFFSETFROM:+1100
TZOFFSETTO:+1000
TZNAME:AEST
DTSTART:20270403T160000
END:STANDARD
BEGIN:DAYLIGHT
TZOFFSETFROM:+1000
TZOFFSETTO:+1100
TZNAME:AEDT
DTSTART:20271002T160000
END:DAYLIGHT
END:VTIMEZONE
BEGIN:VEVENT
DTSTART;TZID=Australia/Melbourne:20260515T100000
DTEND;TZID=Australia/Melbourne:20260610T160000
DTSTAMP:20260424T151119
CREATED:20260422T233658Z
LAST-MODIFIED:20260422T233658Z
UID:10000805-1778839200-1781107200@www.reconciliation.org.au
SUMMARY:Celebrating First Nations Artists living on Yuin Country
DESCRIPTION:Exhibition runs from 15th May to 10th June\nOpening event on Saturday 16th May @ 10am-12 noon\, Morning tea – meet the artists. Welcome to Country at 11am. Exhibition to be opened by Alison Simpson\, Indigenous artist. \nFeaturing 20 Indigenous artists with paintings\, prints\, weavings\, message sticks\, ceramics\, glass\, jewellery\, textiles and cards.\nDon Atkinson\, Sabrina Canavan\, Tabatha Cann\, Gavin Chatfield\, Amanda Close\, Jidi Cooper\, Cheryl Davison\, Lynette Egglestone\, Shanice Hilder\, Toni Hill\, Meaghan Holt\, Therese Honan\, Susan Kennedy\, Ronny Mason\, Vivian Mason\, Sonya Naylor\, Loanna Panton\, Patricia Pitman\, Bronwen Smith\, Emma Stewart. \nPresented with the financial assistance of South East Arts & Indigenous Visual Arts Industry Support.
URL:https://www.reconciliation.org.au/event/celebrating-first-nations-artists-living-on-yuin-country/
LOCATION:Spiral Gallery\, 47 Church St\, Bega\, New South Wales\, Australia
CATEGORIES:Ceremony,Morning or Afternoon tea
ATTACH;FMTTYPE=image/jpeg:https://www.reconciliation.org.au/wp-content/uploads/2026/04/IMG_6914-615cd6546724402aa1bc6ed8f2b2437d.jpeg
ORGANIZER;CN="Spiral Gallery":MAILTO:spiralgallerybega@gmail.com
END:VEVENT
END:VCALENDAR