BEGIN:VCALENDAR
VERSION:2.0
PRODID:-//Reconciliation Australia - ECPv6.15.12.2//NONSGML v1.0//EN
CALSCALE:GREGORIAN
METHOD:PUBLISH
X-WR-CALNAME:Reconciliation Australia
X-ORIGINAL-URL:https://www.reconciliation.org.au
X-WR-CALDESC:Events for Reconciliation Australia
REFRESH-INTERVAL;VALUE=DURATION:PT1H
X-Robots-Tag:noindex
X-PUBLISHED-TTL:PT1H
BEGIN:VTIMEZONE
TZID:Australia/Melbourne
BEGIN:STANDARD
TZOFFSETFROM:+1100
TZOFFSETTO:+1000
TZNAME:AEST
DTSTART:20250405T160000
END:STANDARD
BEGIN:DAYLIGHT
TZOFFSETFROM:+1000
TZOFFSETTO:+1100
TZNAME:AEDT
DTSTART:20251004T160000
END:DAYLIGHT
BEGIN:STANDARD
TZOFFSETFROM:+1100
TZOFFSETTO:+1000
TZNAME:AEST
DTSTART:20260404T160000
END:STANDARD
BEGIN:DAYLIGHT
TZOFFSETFROM:+1000
TZOFFSETTO:+1100
TZNAME:AEDT
DTSTART:20261003T160000
END:DAYLIGHT
BEGIN:STANDARD
TZOFFSETFROM:+1100
TZOFFSETTO:+1000
TZNAME:AEST
DTSTART:20270403T160000
END:STANDARD
BEGIN:DAYLIGHT
TZOFFSETFROM:+1000
TZOFFSETTO:+1100
TZNAME:AEDT
DTSTART:20271002T160000
END:DAYLIGHT
END:VTIMEZONE
BEGIN:VEVENT
DTSTART;TZID=Australia/Melbourne:20260528T130000
DTEND;TZID=Australia/Melbourne:20260528T140000
DTSTAMP:20260423T055708
CREATED:20260415T233802Z
LAST-MODIFIED:20260415T233802Z
UID:10000793-1779973200-1779976800@www.reconciliation.org.au
SUMMARY:Reconciliation Week Lunchtime Concert Collective Footprints Ensemble
DESCRIPTION:This lunchtime concert is a free public event held at Monash University Clayton campus.\nThis year’s event ‘Long Journey’ features the School of Music students playing original works by Indigenous composers as well as original works from student composers.
URL:https://www.reconciliation.org.au/event/reconciliation-week-lunchtime-concert-collective-footprints-ensemble/
LOCATION:Performing Arts Centre\, 55 Scenic Boulevard Monash University\, Clayton\, Victoria\, Australia
CATEGORIES:Performance
ATTACH;FMTTYPE=image/jpeg:https://www.reconciliation.org.au/wp-content/uploads/2026/04/Long-Journey-E-booklet-1-e8eb114e42b49e979907418ffb681f20.jpg
ORGANIZER;CN="Sir Zelman Cowen School of Music and Performance Monash University":MAILTO:kerryn.morey@monash.edu
END:VEVENT
END:VCALENDAR