BEGIN:VCALENDAR
VERSION:2.0
PRODID:-//Reconciliation Australia - ECPv6.15.12.2//NONSGML v1.0//EN
CALSCALE:GREGORIAN
METHOD:PUBLISH
X-ORIGINAL-URL:https://www.reconciliation.org.au
X-WR-CALDESC:Events for Reconciliation Australia
REFRESH-INTERVAL;VALUE=DURATION:PT1H
X-Robots-Tag:noindex
X-PUBLISHED-TTL:PT1H
BEGIN:VTIMEZONE
TZID:Australia/Melbourne
BEGIN:STANDARD
TZOFFSETFROM:+1100
TZOFFSETTO:+1000
TZNAME:AEST
DTSTART:20250405T160000
END:STANDARD
BEGIN:DAYLIGHT
TZOFFSETFROM:+1000
TZOFFSETTO:+1100
TZNAME:AEDT
DTSTART:20251004T160000
END:DAYLIGHT
BEGIN:STANDARD
TZOFFSETFROM:+1100
TZOFFSETTO:+1000
TZNAME:AEST
DTSTART:20260404T160000
END:STANDARD
BEGIN:DAYLIGHT
TZOFFSETFROM:+1000
TZOFFSETTO:+1100
TZNAME:AEDT
DTSTART:20261003T160000
END:DAYLIGHT
BEGIN:STANDARD
TZOFFSETFROM:+1100
TZOFFSETTO:+1000
TZNAME:AEST
DTSTART:20270403T160000
END:STANDARD
BEGIN:DAYLIGHT
TZOFFSETFROM:+1000
TZOFFSETTO:+1100
TZNAME:AEDT
DTSTART:20271002T160000
END:DAYLIGHT
END:VTIMEZONE
BEGIN:VEVENT
DTSTART;TZID=Australia/Melbourne:20260528T141000
DTEND;TZID=Australia/Melbourne:20260528T144500
DTSTAMP:20260424T210646
CREATED:20260422T232308Z
LAST-MODIFIED:20260423T022437Z
UID:10000800-1779977400-1779979500@www.reconciliation.org.au
SUMMARY:Reconciliation Through First Nations Languages
DESCRIPTION:Live virtual event for stage 2 and 3 students. Join us for a free online learning event for Reconciliation Week 2026 to explore the theme of ‘All In’. This event is a collaboration between Museums of History NSW and the Parliament of NSW. Together we will give students insight into how Parliament and Community-led projects are contributing to the revitalisation of Aboriginal languages across NSW.
URL:https://www.reconciliation.org.au/event/reconciliation-through-first-nations-languages/
CATEGORIES:Virtual Event - streaming or Zoom
ATTACH;FMTTYPE=image/jpeg:https://www.reconciliation.org.au/wp-content/uploads/2026/04/ReconWk_eNews_Lead_600x337_2.jpg
ORGANIZER;CN="Museums of History NSW and Parliament NSW":MAILTO:Learning.Team@mhnsw.au
END:VEVENT
END:VCALENDAR