BEGIN:VCALENDAR
VERSION:2.0
PRODID:-//Reconciliation Australia - ECPv6.15.12.2//NONSGML v1.0//EN
CALSCALE:GREGORIAN
METHOD:PUBLISH
X-ORIGINAL-URL:https://www.reconciliation.org.au
X-WR-CALDESC:Events for Reconciliation Australia
REFRESH-INTERVAL;VALUE=DURATION:PT1H
X-Robots-Tag:noindex
X-PUBLISHED-TTL:PT1H
BEGIN:VTIMEZONE
TZID:Australia/Melbourne
BEGIN:STANDARD
TZOFFSETFROM:+1100
TZOFFSETTO:+1000
TZNAME:AEST
DTSTART:20250405T160000
END:STANDARD
BEGIN:DAYLIGHT
TZOFFSETFROM:+1000
TZOFFSETTO:+1100
TZNAME:AEDT
DTSTART:20251004T160000
END:DAYLIGHT
BEGIN:STANDARD
TZOFFSETFROM:+1100
TZOFFSETTO:+1000
TZNAME:AEST
DTSTART:20260404T160000
END:STANDARD
BEGIN:DAYLIGHT
TZOFFSETFROM:+1000
TZOFFSETTO:+1100
TZNAME:AEDT
DTSTART:20261003T160000
END:DAYLIGHT
BEGIN:STANDARD
TZOFFSETFROM:+1100
TZOFFSETTO:+1000
TZNAME:AEST
DTSTART:20270403T160000
END:STANDARD
BEGIN:DAYLIGHT
TZOFFSETFROM:+1000
TZOFFSETTO:+1100
TZNAME:AEDT
DTSTART:20271002T160000
END:DAYLIGHT
END:VTIMEZONE
BEGIN:VEVENT
DTSTART;TZID=Australia/Melbourne:20260602T180000
DTEND;TZID=Australia/Melbourne:20260602T200000
DTSTAMP:20260421T221630
CREATED:20260414T064948Z
LAST-MODIFIED:20260414T064948Z
UID:10000790-1780423200-1780430400@www.reconciliation.org.au
SUMMARY:Genocide in the Wildflower State
DESCRIPTION:Experience a powerful documentary that uncovers the truth of Western Australia’s Stolen Generations and the decades-long policies that tore families apart. Following the screening\, hear directly from two Survivors as they share their lived experiences and reflections on healing and justice. \nLight refreshments provided by Kuditj Kitchen. Bookings essential. Priority is given to City of Vincent residents. Photographs and videos may be taken of the event. Please book one ticket for each person attending. \nThe Vincent Community Centre is a wheelchair accessible venue. \nFor further information on accessibility\, please contact the Community Development team at community.development@vincent.wa.gov.au or call 9273 6000
URL:https://www.reconciliation.org.au/event/genocide-in-the-wildflower-state/
LOCATION:Luna Cinema\, 155 Oxford Street\, Leederville\, Western Australia\, Australia
CATEGORIES:Screening
ATTACH;FMTTYPE=image/jpeg:https://www.reconciliation.org.au/wp-content/uploads/2026/04/2143-Reconciliation-Week-2026_Humanitix-a6c4fc6d89e5303d19a0b334a07cf66f.jpg
ORGANIZER;CN="City of Vincent":MAILTO:izabella.pickett@vincent.wa.gov.au
END:VEVENT
END:VCALENDAR