BEGIN:VCALENDAR
VERSION:2.0
PRODID:-//Reconciliation Australia - ECPv6.15.12.2//NONSGML v1.0//EN
CALSCALE:GREGORIAN
METHOD:PUBLISH
X-ORIGINAL-URL:https://www.reconciliation.org.au
X-WR-CALDESC:Events for Reconciliation Australia
REFRESH-INTERVAL;VALUE=DURATION:PT1H
X-Robots-Tag:noindex
X-PUBLISHED-TTL:PT1H
BEGIN:VTIMEZONE
TZID:Australia/Melbourne
BEGIN:STANDARD
TZOFFSETFROM:+1100
TZOFFSETTO:+1000
TZNAME:AEST
DTSTART:20250405T160000
END:STANDARD
BEGIN:DAYLIGHT
TZOFFSETFROM:+1000
TZOFFSETTO:+1100
TZNAME:AEDT
DTSTART:20251004T160000
END:DAYLIGHT
BEGIN:STANDARD
TZOFFSETFROM:+1100
TZOFFSETTO:+1000
TZNAME:AEST
DTSTART:20260404T160000
END:STANDARD
BEGIN:DAYLIGHT
TZOFFSETFROM:+1000
TZOFFSETTO:+1100
TZNAME:AEDT
DTSTART:20261003T160000
END:DAYLIGHT
BEGIN:STANDARD
TZOFFSETFROM:+1100
TZOFFSETTO:+1000
TZNAME:AEST
DTSTART:20270403T160000
END:STANDARD
BEGIN:DAYLIGHT
TZOFFSETFROM:+1000
TZOFFSETTO:+1100
TZNAME:AEDT
DTSTART:20271002T160000
END:DAYLIGHT
END:VTIMEZONE
BEGIN:VEVENT
DTSTART;TZID=Australia/Melbourne:20260528T130000
DTEND;TZID=Australia/Melbourne:20260528T143000
DTSTAMP:20260424T193907
CREATED:20260422T233646Z
LAST-MODIFIED:20260422T233646Z
UID:10000804-1779973200-1779978600@www.reconciliation.org.au
SUMMARY:All in: Embedding reconciliation in Australia’s energy transition
DESCRIPTION:As Australia’s energy system undergoes rapid transformation\, reconciliation must be embedded in how decisions are made — not treated as an add‑on. \nThis NRW event brings together First Nations leaders and senior energy sector decision‑makers to explore what being “All in” on reconciliation means in practice across investment\, regulation\, governance and industry delivery. \nJointly hosted by the Australian Energy Market Commission (AEMC)\, the Australian Energy Market Operator (AEMO)\, ASL\, the Clean Energy Finance Corporation (CEFC)\, the Economic Regulation Authority of Western Australia (ERAWA)\, and the Essential Services Commission of South Australia (ESCOSA)\, the event is a public\, sector‑wide conversation aligned to the 2026 NRW theme All in. \nThe program will centre First Nations leadership and lived experience\, followed by a practical panel discussion with senior industry and sector leaders\, focused on moving from commitment to system‑level action.
URL:https://www.reconciliation.org.au/event/all-in-embedding-reconciliation-in-australias-energy-transition/
CATEGORIES:Webinar
ATTACH;FMTTYPE=image/png:https://www.reconciliation.org.au/wp-content/uploads/2026/04/NRW-2026-4-QA-post-wc-4-May-2-45747c9b4059af5b5dfa0e2ade9cd7bc.png
ORGANIZER;CN="Australian Energy Market Operator":MAILTO:kate.pollock@aemo.com.au
END:VEVENT
END:VCALENDAR