BEGIN:VCALENDAR
VERSION:2.0
PRODID:-//Reconciliation Australia - ECPv6.15.12.2//NONSGML v1.0//EN
CALSCALE:GREGORIAN
METHOD:PUBLISH
X-ORIGINAL-URL:https://www.reconciliation.org.au
X-WR-CALDESC:Events for Reconciliation Australia
REFRESH-INTERVAL;VALUE=DURATION:PT1H
X-Robots-Tag:noindex
X-PUBLISHED-TTL:PT1H
BEGIN:VTIMEZONE
TZID:Australia/Melbourne
BEGIN:STANDARD
TZOFFSETFROM:+1100
TZOFFSETTO:+1000
TZNAME:AEST
DTSTART:20250405T160000
END:STANDARD
BEGIN:DAYLIGHT
TZOFFSETFROM:+1000
TZOFFSETTO:+1100
TZNAME:AEDT
DTSTART:20251004T160000
END:DAYLIGHT
BEGIN:STANDARD
TZOFFSETFROM:+1100
TZOFFSETTO:+1000
TZNAME:AEST
DTSTART:20260404T160000
END:STANDARD
BEGIN:DAYLIGHT
TZOFFSETFROM:+1000
TZOFFSETTO:+1100
TZNAME:AEDT
DTSTART:20261003T160000
END:DAYLIGHT
BEGIN:STANDARD
TZOFFSETFROM:+1100
TZOFFSETTO:+1000
TZNAME:AEST
DTSTART:20270403T160000
END:STANDARD
BEGIN:DAYLIGHT
TZOFFSETFROM:+1000
TZOFFSETTO:+1100
TZNAME:AEDT
DTSTART:20271002T160000
END:DAYLIGHT
END:VTIMEZONE
BEGIN:VEVENT
DTSTART;TZID=Australia/Melbourne:20260520T100000
DTEND;TZID=Australia/Melbourne:20260520T110000
DTSTAMP:20260424T180154
CREATED:20260422T233617Z
LAST-MODIFIED:20260422T233617Z
UID:10000802-1779271200-1779274800@www.reconciliation.org.au
SUMMARY:Reconciliation Week Yarn 2026
DESCRIPTION:Join Red Dust for a meaningful Reconciliation Week yarn\, bringing community together to listen\, learn and reflect. This gathering creates a safe and respectful space for open conversation\, storytelling and shared understanding. Through dialogue\, we aim to deepen awareness of Aboriginal and Torres Strait Islander cultures\, histories and perspectives\, while strengthening relationships across community. Whether you are new to these conversations or continuing your journey\, this event welcomes everyone with curiosity and respect. Come along to connect\, ask questions\, and be part of a collective commitment to reconciliation. Together\, we can foster understanding\, challenge assumptions and build stronger\, more respectful communities. Light refreshments will be provided\, and all are encouraged to participate in a way that feels comfortable. Your presence contributes to a shared path forward grounded in respect\, truth and connection.
URL:https://www.reconciliation.org.au/event/reconciliation-week-yarn-2026/
CATEGORIES:Discussion,Talk/Panel,Virtual Event - streaming or Zoom,Webinar
ATTACH;FMTTYPE=image/jpeg:https://www.reconciliation.org.au/wp-content/uploads/2026/04/reconciliation_event_resized-97b0534e01e8f5bec52028269a47f048.jpg
ORGANIZER;CN="Red Dust Role Models":MAILTO:partner@reddust.org.au
END:VEVENT
BEGIN:VEVENT
DTSTART;TZID=Australia/Melbourne:20260528T130000
DTEND;TZID=Australia/Melbourne:20260528T143000
DTSTAMP:20260424T180154
CREATED:20260422T233646Z
LAST-MODIFIED:20260422T233646Z
UID:10000804-1779973200-1779978600@www.reconciliation.org.au
SUMMARY:All in: Embedding reconciliation in Australia’s energy transition
DESCRIPTION:As Australia’s energy system undergoes rapid transformation\, reconciliation must be embedded in how decisions are made — not treated as an add‑on. \nThis NRW event brings together First Nations leaders and senior energy sector decision‑makers to explore what being “All in” on reconciliation means in practice across investment\, regulation\, governance and industry delivery. \nJointly hosted by the Australian Energy Market Commission (AEMC)\, the Australian Energy Market Operator (AEMO)\, ASL\, the Clean Energy Finance Corporation (CEFC)\, the Economic Regulation Authority of Western Australia (ERAWA)\, and the Essential Services Commission of South Australia (ESCOSA)\, the event is a public\, sector‑wide conversation aligned to the 2026 NRW theme All in. \nThe program will centre First Nations leadership and lived experience\, followed by a practical panel discussion with senior industry and sector leaders\, focused on moving from commitment to system‑level action.
URL:https://www.reconciliation.org.au/event/all-in-embedding-reconciliation-in-australias-energy-transition/
CATEGORIES:Webinar
ATTACH;FMTTYPE=image/png:https://www.reconciliation.org.au/wp-content/uploads/2026/04/NRW-2026-4-QA-post-wc-4-May-2-45747c9b4059af5b5dfa0e2ade9cd7bc.png
ORGANIZER;CN="Australian Energy Market Operator":MAILTO:kate.pollock@aemo.com.au
END:VEVENT
BEGIN:VEVENT
DTSTART;TZID=Australia/Melbourne:20260602T130000
DTEND;TZID=Australia/Melbourne:20260602T140000
DTSTAMP:20260424T180154
CREATED:20260323T110148Z
LAST-MODIFIED:20260422T232044Z
UID:10000755-1780405200-1780408800@www.reconciliation.org.au
SUMMARY:Copyright and First Nations Art
DESCRIPTION:As part of National Reconciliation Week\, the Australian Copyright Council is delighted to present its annual Copyright & First Nations Art webinar on Tuesday\, 2 June 2026 at 1-2pm AEST. \nFacilitated and presented by Australian Copyright Council Senior Lawyer\, Eleny Tzioumis\, this one-hour session explores copyright law as it relates to First Nations Art. \nWe look at issues including:\n• general copyright principles as they apply to First Nations art\n• the moral rights of creators\n• things to consider for those wishing to use First Nations art. \nWe will also touch briefly on Indigenous Cultural and Intellectual Property (ICIP) issues. \nThis webinar is free of charge but you will need to register to attend.
URL:https://www.reconciliation.org.au/event/copyright-and-first-nations-art/
CATEGORIES:Webinar
ATTACH;FMTTYPE=image/png:https://www.reconciliation.org.au/wp-content/uploads/2026/03/Copyright-First-Nations-Art-2026.png
ORGANIZER;CN="Australian Copyright Council":MAILTO:info@copyright.org.au
END:VEVENT
END:VCALENDAR