BEGIN:VCALENDAR
VERSION:2.0
PRODID:-//Reconciliation Australia - ECPv6.15.12.2//NONSGML v1.0//EN
CALSCALE:GREGORIAN
METHOD:PUBLISH
X-WR-CALNAME:Reconciliation Australia
X-ORIGINAL-URL:https://www.reconciliation.org.au
X-WR-CALDESC:Events for Reconciliation Australia
REFRESH-INTERVAL;VALUE=DURATION:PT1H
X-Robots-Tag:noindex
X-PUBLISHED-TTL:PT1H
BEGIN:VTIMEZONE
TZID:Australia/Melbourne
BEGIN:STANDARD
TZOFFSETFROM:+1100
TZOFFSETTO:+1000
TZNAME:AEST
DTSTART:20250405T160000
END:STANDARD
BEGIN:DAYLIGHT
TZOFFSETFROM:+1000
TZOFFSETTO:+1100
TZNAME:AEDT
DTSTART:20251004T160000
END:DAYLIGHT
BEGIN:STANDARD
TZOFFSETFROM:+1100
TZOFFSETTO:+1000
TZNAME:AEST
DTSTART:20260404T160000
END:STANDARD
BEGIN:DAYLIGHT
TZOFFSETFROM:+1000
TZOFFSETTO:+1100
TZNAME:AEDT
DTSTART:20261003T160000
END:DAYLIGHT
BEGIN:STANDARD
TZOFFSETFROM:+1100
TZOFFSETTO:+1000
TZNAME:AEST
DTSTART:20270403T160000
END:STANDARD
BEGIN:DAYLIGHT
TZOFFSETFROM:+1000
TZOFFSETTO:+1100
TZNAME:AEDT
DTSTART:20271002T160000
END:DAYLIGHT
END:VTIMEZONE
BEGIN:VEVENT
DTSTART;TZID=Australia/Melbourne:20260527T100000
DTEND;TZID=Australia/Melbourne:20260527T120000
DTSTAMP:20260424T193601
CREATED:20260417T041332Z
LAST-MODIFIED:20260417T041332Z
UID:10000798-1779876000-1779883200@www.reconciliation.org.au
SUMMARY:Intro To Dhurga Language Workshop
DESCRIPTION:For National Reconcilliation Week\, we are hosting a Dhurga Language Workshop at the Centre.\nTAFE Facilitator and current CUCSS Student\, Gayle Nolan\, will be running the session. \nLearn some basics of our local Aboriginal language\, find out about Dhurga language resources\, hear stories from local mob and learn about the importance of language in culture. \nJoin us at the workshop from 10-11.30 followed by a celebratory morning tea! \nPLEASE RSVP AS SPACE IS LIMITED: https://form.typeform.com/to/MWoMwOyz \n***This event is for Aboriginal or Torres Strait Islanders\, Dhurga students at TAFE\, and students registered at the Country Universities Centre Southern Shoalhaven***
URL:https://www.reconciliation.org.au/event/intro-to-dhurga-language-workshop/
LOCATION:Country Universities Centre Southern Shoalhaven\, 146 Princes Highway\, Ulladulla\, New South Wales\, Australia
CATEGORIES:Course/Workshop,Discussion,Morning or Afternoon tea
ATTACH;FMTTYPE=image/png:https://www.reconciliation.org.au/wp-content/uploads/2026/04/Screenshot-2026-04-17-at-12.25.17-pm-420cc4673e7d704d92a4fe99fc5f0edf.png
ORGANIZER;CN="Country Universities Centre Southern Shoalhaven":MAILTO:evadavisb@gmail.com
END:VEVENT
BEGIN:VEVENT
DTSTART;TZID=Australia/Melbourne:20260527T103000
DTEND;TZID=Australia/Melbourne:20260527T123000
DTSTAMP:20260424T193601
CREATED:20260422T233623Z
LAST-MODIFIED:20260422T233623Z
UID:10000803-1779877800-1779885000@www.reconciliation.org.au
SUMMARY:City of Monash National Rec Week Celebration
DESCRIPTION:As part of National Reconciliation Week 2026\, join us for this celebratory event embracing the 2026 theme ‘All In’.\nTake part in a traditional Smoking Ceremony and Welcome to Country\, hear stories shared by First Nations Elders\, and take part in cultural activities that include a weaving workshop with Aunty Merilyn Duff.\nIt’s part of Connecting to Country and Culture\, an 8-week immersive program of community events\, exhibitions and family friendly activities grounded in cultural learning and truth telling.\nThe program of activities will continue through to NAIDOC Week\, providing an opportunity for the community to further participate\, reflect and build a deeper understanding of First Nations cultures.\nInitiatives align with National Reconciliation Week’s theme ‘All In’ and NAIDOC Week’s ’50 Years of Deadly’\, celebrating the strength\, leadership and resilience of First Nations peoples.\nLearn more and see our program of activities at www.monash.vic.gov.au/first-nations
URL:https://www.reconciliation.org.au/event/city-of-monash-national-rec-week-celebration/
LOCATION:Monash Civic Centre\, 293 Springvale Road\, Glen Waverly\, Victoria\, Australia
CATEGORIES:Ceremony,Course/Workshop,Other,Talk/Panel
ATTACH;FMTTYPE=image/png:https://www.reconciliation.org.au/wp-content/uploads/2026/04/Monash-Council-Rec-week-celebration-396573fa7c1c394490a102545c7c08b4.png
ORGANIZER;CN="Monash Council":MAILTO:amrit.kaur@monash.vic.gov.au
END:VEVENT
BEGIN:VEVENT
DTSTART;TZID=Australia/Melbourne:20260530T110000
DTEND;TZID=Australia/Melbourne:20260530T130000
DTSTAMP:20260424T193601
CREATED:20260410T042835Z
LAST-MODIFIED:20260410T042835Z
UID:10000782-1780138800-1780146000@www.reconciliation.org.au
SUMMARY:Reconciliation Week: Connecting Workshop and Yarn Up
DESCRIPTION:Naomi is a proud Yanyuwa\, Saltwater Woman. This Reconciliation Week\, join Naomi at this free event to yarn up about the importance of Connecting\, aligning to ways of Knowing\, Being and Doing. Connecting is about community\, with each other\, with yourself\, and with Country we live\, work\, play\, and walk on.
URL:https://www.reconciliation.org.au/event/reconciliation-week-connecting-workshop-and-yarn-up/
LOCATION:Cove Civic Centre\, 1 Ragamuffin Drive\, Hallett Cove\, South Australia\, Australia
CATEGORIES:Course/Workshop,Discussion
ATTACH;FMTTYPE=image/png:https://www.reconciliation.org.au/wp-content/uploads/2026/03/NRW-2026-events-calendar-holding-image.png
ORGANIZER;CN="City of Marion":MAILTO:ella.reid@marion.sa.gov.au
END:VEVENT
BEGIN:VEVENT
DTSTART;TZID=Australia/Melbourne:20260530T140000
DTEND;TZID=Australia/Melbourne:20260530T150000
DTSTAMP:20260424T193601
CREATED:20260323T110234Z
LAST-MODIFIED:20260323T110234Z
UID:10000756-1780149600-1780153200@www.reconciliation.org.au
SUMMARY:Colours of Country – Painting for Healing with Aunty Ros
DESCRIPTION:Experience a special workshop led by Aunty Ros\, where you’ll learn about her family’s deep connection to Country and story through the art of painting.\nAs part of this creative journey\, you will paint laser cut wooden leaves\, inspired by the beauty of nature. These painted leaves will become part of the ongoing Reconciliation Community Artwork of 2025\, a collaborative artwork symbolising unity and healing\, to be showcased at Tiwu Kumangka Gallery.
URL:https://www.reconciliation.org.au/event/colours-of-country-painting-for-healing-with-aunty-ros/
LOCATION:Tiwu Kumangka\, 4 Young Street\, Blackwood\, South Australia\, Australia
CATEGORIES:Course/Workshop
ATTACH;FMTTYPE=image/jpeg:https://www.reconciliation.org.au/wp-content/uploads/2026/03/Image-3-26bfe399ce029a405d0ce5076655707b.jpg
ORGANIZER;CN="Mitcham Library Service":MAILTO:libraryprograms@mitchamcouncil.sa.gov.au
END:VEVENT
BEGIN:VEVENT
DTSTART;TZID=Australia/Melbourne:20260531T100000
DTEND;TZID=Australia/Melbourne:20260531T123000
DTSTAMP:20260424T193601
CREATED:20260413T045156Z
LAST-MODIFIED:20260413T045156Z
UID:10000788-1780221600-1780230600@www.reconciliation.org.au
SUMMARY:Walk on Country Kingscliff
DESCRIPTION:We are meeting at Ed Parker Rotary Park in Kingscliff and walking with Uncle Frank as he shares stories and cultural knowledge. We will walk along the estuary ending at the Cudgen Headland Surf Life Saving Club. There we will have a smoking ceremony and a performance from the Biren Cultural Dance Group. Following this there will be a free BBQ and activities and displays for community to engage in. There will also be an elders morning tea. Everyone is welcome and the walk is also dog friendly.
URL:https://www.reconciliation.org.au/event/walk-on-country-kingscliff/
LOCATION:Cudgen Headland Surf Life Saving Club\, 61 Marine Parade\, Kingscliff\, New South Wales\, Australia
CATEGORIES:Ceremony,Course/Workshop,Morning or Afternoon tea,Performance,Talk/Panel
ATTACH;FMTTYPE=image/png:https://www.reconciliation.org.au/wp-content/uploads/2026/04/Walk-on-Country-Poster-1-37228d4a84a38e840ac6841477f76a96.png
ORGANIZER;CN="The Family Centre":MAILTO:lotteb@thefamilycentre.org.au
END:VEVENT
BEGIN:VEVENT
DTSTART;TZID=Australia/Melbourne:20260603T173000
DTEND;TZID=Australia/Melbourne:20260603T190000
DTSTAMP:20260424T193601
CREATED:20260414T064940Z
LAST-MODIFIED:20260414T064940Z
UID:10000789-1780507800-1780513200@www.reconciliation.org.au
SUMMARY:Bush Flower Essence Workshop
DESCRIPTION:Discover the Healing Power of Bush Flowers found on Country. Join us for a gentle and immersive Bush Flower Essence workshop\, where participants will be guided through the process of creating their own personalised essence using locally sourced native plants. This experience weaves together cultural knowledge\, intention setting\, and connection to Country\, supporting emotional wellbeing and self-reflection. \nParticipants will leave with their own handcrafted essence and a deeper understanding of the energetic and traditional uses of native flora. \nEnjoy a taste of Aboriginal flavours with cuisine from Kuditj Kitchen. \nBookings essential. Priority is given to City of Vincent residents. Photographs and videos may be taken of the event. Please book one ticket for each person attending. \nThe Vincent Community Centre is a wheelchair accessible venue. \nFor further information on accessibility\, please contact the Community Development team at community.development@vincent.wa.gov.au or call 9273 6000
URL:https://www.reconciliation.org.au/event/bush-flower-essence-workshop/
LOCATION:Community Centre\, 99 Loftus Street\, Leederville\, Western Australia\, Australia
CATEGORIES:Course/Workshop
ATTACH;FMTTYPE=image/jpeg:https://www.reconciliation.org.au/wp-content/uploads/2026/04/2143-Reconciliation-Week-2026_Humanitix-f02467b587911bb49e85e0884fa19e9c.jpg
ORGANIZER;CN="Community Development":MAILTO:community.development@vincent.wa.gov.au
END:VEVENT
BEGIN:VEVENT
DTSTART;TZID=Australia/Melbourne:20260603T180000
DTEND;TZID=Australia/Melbourne:20260603T193000
DTSTAMP:20260424T193601
CREATED:20260323T110012Z
LAST-MODIFIED:20260323T110012Z
UID:10000752-1780509600-1780515000@www.reconciliation.org.au
SUMMARY:An Evening of Art with Jo
DESCRIPTION:Jo is a Wirangu woman from the Far West Coast of South Australia\, with a deep connection to Earth and Spirit. Although she has been painting for only a few years\, her meditative dot work beautifully reflects her grounding practices\, her love of bold and vibrant colours\, and her connection to energy and ancient spirit lines.\nDuring this session\, Jo will share the inspirations behind her work\, the stories held within her colours and patterns\, and the creative processes that guide her art.
URL:https://www.reconciliation.org.au/event/an-evening-of-art-with-jo/
LOCATION:Mitcham Memorial Library\, 154 B\, Hawthorn\, South Australia\, Australia
CATEGORIES:Course/Workshop
ATTACH;FMTTYPE=image/jpeg:https://www.reconciliation.org.au/wp-content/uploads/2026/03/Evening-of-Art-with-Jo-1-d1db253a318daa630d7fadaa9eb0f82c.jpg
ORGANIZER;CN="Mitcham Library Service":MAILTO:libraryprograms@mitchamcouncil.sa.gov.au
END:VEVENT
BEGIN:VEVENT
DTSTART;TZID=Australia/Melbourne:20260710T094500
DTEND;TZID=Australia/Melbourne:20261009T094500
DTSTAMP:20260424T193601
CREATED:20260325T022543Z
LAST-MODIFIED:20260325T022543Z
UID:10000760-1783676700-1791539100@www.reconciliation.org.au
SUMMARY:The Meeting Point Leadership Responsibility and First Peoples Sovereignty
DESCRIPTION:The Meeting Point is a leadership learning journey for non-Indigenous people who want to deepen understanding\, reflect on responsibilities to people\, place and Country\, and consider what respectful relationship and contribution might require of us. \nThrough a small group and a carefully held learning container\, we engage with First Peoples perspectives\, honest conversation and the ongoing practice of accountable allyship. \nLearning throughout the program is grounded in First Peoples voices\, perspectives and guest contributions\, and the space is held by two non-Indigenous facilitators. \nWe are guided by First Peoples perspectives\, the AIATSIS Code of Ethics and Ambelin Kwaymullina’s Living on Stolen Land\, seeking to act in the right spirit\, with integrity and respect for Country and all living things. \nYou can read more about it here https://themeetingpoint.net/
URL:https://www.reconciliation.org.au/event/the-meeting-point-leadership-responsibility-and-first-peoples-sovereignty/
LOCATION:Various beginning at Koorie Heritage Trust\, Federation Square\, Melbourne\, Victoria\, Australia
CATEGORIES:Course/Workshop
ATTACH;FMTTYPE=image/jpeg:https://www.reconciliation.org.au/wp-content/uploads/2026/03/TMP-logo-2026-409bec3e0c3dd868128c90be8fc92f0e.jpg
ORGANIZER;CN="The Meeting Point":MAILTO:hello@themeetingpoint.net
END:VEVENT
END:VCALENDAR